BEGIN:VCALENDAR
VERSION:2.0
PRODID:-//hacksw/handcal//NONSGML v1.0//EN
CALSCALE:GREGORIAN
BEGIN:VTIMEZONE
TZID:America/Chicago
BEGIN:DAYLIGHT
TZOFFSETFROM:-0600
TZNAME:MDT
TZOFFSETTO:-0600
END:DAYLIGHT
END:VTIMEZONE
DTSTAMP:20260421T030654Z
UID:69e7301e0ff5d
BEGIN:VEVENT
LOCATION:Waukee Public Library, 950 S Warrior Ln, Waukee, IA US 50263
DESCRIPTION:<p>Call the Dial-a-Story phone line at (515) 981-7800 any time to hear a selection of books and songs prerecorded by library staff. New stories are available on the first of each month.</p>

DTSTART;TZID=America/Chicago:20241003T000000
DTEND;TZID=America/Chicago:20241003T235900
SUMMARY:Dial a Story
URL;VALUE=URI:/events/series/2955
END:VEVENT
END:VCALENDAR