BEGIN:VCALENDAR
VERSION:2.0
PRODID:-//hacksw/handcal//NONSGML v1.0//EN
CALSCALE:GREGORIAN
BEGIN:VTIMEZONE
TZID:America/Chicago
BEGIN:DAYLIGHT
TZOFFSETFROM:-0600
TZNAME:MDT
TZOFFSETTO:-0600
END:DAYLIGHT
END:VTIMEZONE
DTSTAMP:20260422T214657Z
UID:69e98821d1363
BEGIN:VEVENT
DESCRIPTION:<p>Use recycled and found materials to make 3-dimensional portraits of your favorite video game characters or create a hero of your own design!</p>

<p>For kids entering grades K-5 in the fall and their caregivers.</p>

<p>Registration is required.</p>
<div id="eventbrite-widget-container-1305399969449"></div>

<script src="https://www.eventbrite.com/static/widgets/eb_widgets.js"></script>

<script type="text/javascript">
    var exampleCallback = function() {
        console.log('Order complete!');
    };

    window.EBWidgets.createWidget({
        // Required
        widgetType: 'checkout',
        eventId: '1305399969449',
        iframeContainerId: 'eventbrite-widget-container-1305399969449',

        // Optional
        iframeContainerHeight: 425,  // Widget height in pixels. Defaults to a minimum of 425px if not provided
        onOrderComplete: exampleCallback  // Method called when an order has successfully completed
    });
</script>
DTSTART;TZID=America/Chicago:20250620T160000
DTEND;TZID=America/Chicago:20250620T170000
SUMMARY:3D Cardboard Portraits
URL;VALUE=URI:/3d-cardboard-portraits-0
END:VEVENT
END:VCALENDAR